BEGIN:VCALENDAR
VERSION:2.0
PRODID:-//Orane - Plantes et Botanique - ECPv6.0.12//NONSGML v1.0//EN
CALSCALE:GREGORIAN
METHOD:PUBLISH
X-WR-CALNAME:Orane - Plantes et Botanique
X-ORIGINAL-URL:https://www.orane.bio
X-WR-CALDESC:évènements pour Orane - Plantes et Botanique
REFRESH-INTERVAL;VALUE=DURATION:PT1H
X-Robots-Tag:noindex
X-PUBLISHED-TTL:PT1H
BEGIN:VTIMEZONE
TZID:Europe/Paris
BEGIN:DAYLIGHT
TZOFFSETFROM:+0100
TZOFFSETTO:+0200
TZNAME:CEST
DTSTART:20230326T010000
END:DAYLIGHT
BEGIN:STANDARD
TZOFFSETFROM:+0200
TZOFFSETTO:+0100
TZNAME:CET
DTSTART:20231029T010000
END:STANDARD
END:VTIMEZONE
BEGIN:VEVENT
DTSTART;VALUE=DATE:20230412
DTEND;VALUE=DATE:20230413
DTSTAMP:20260420T131211
CREATED:20230227T145951Z
LAST-MODIFIED:20230304T171025Z
UID:407-1681257600-1681343999@www.orane.bio
SUMMARY:Initiation botanique
DESCRIPTION:Bienvenue sur WordPress. Ceci est votre premier article. Modifiez-le ou supprimez-le\, puis commencez à écrire !
URL:https://www.orane.bio/index.php/event/initiation-botanique-2/
LOCATION:Médiathèque de Saint Siméon de Bressieux\, 72 Rue du Carrousel\, Saint-Siméon-de-Bressieux\, 38870\, France
CATEGORIES:animation botanique et potion
ATTACH;FMTTYPE=image/jpeg:https://www.orane.bio/wp-content/uploads/2021/09/bota-scaled.jpg
END:VEVENT
END:VCALENDAR